BEGIN:VCALENDAR
VERSION:2.0
PRODID:-//District 8 Area 15 General Service - ECPv6.15.17.1//NONSGML v1.0//EN
CALSCALE:GREGORIAN
METHOD:PUBLISH
X-WR-CALNAME:District 8 Area 15 General Service
X-ORIGINAL-URL:https://district8area15aa.org
X-WR-CALDESC:Events for District 8 Area 15 General Service
REFRESH-INTERVAL;VALUE=DURATION:PT1H
X-Robots-Tag:noindex
X-PUBLISHED-TTL:PT1H
BEGIN:VTIMEZONE
TZID:America/New_York
BEGIN:DAYLIGHT
TZOFFSETFROM:-0500
TZOFFSETTO:-0400
TZNAME:EDT
DTSTART:20250309T070000
END:DAYLIGHT
BEGIN:STANDARD
TZOFFSETFROM:-0400
TZOFFSETTO:-0500
TZNAME:EST
DTSTART:20251102T060000
END:STANDARD
BEGIN:DAYLIGHT
TZOFFSETFROM:-0500
TZOFFSETTO:-0400
TZNAME:EDT
DTSTART:20260308T070000
END:DAYLIGHT
BEGIN:STANDARD
TZOFFSETFROM:-0400
TZOFFSETTO:-0500
TZNAME:EST
DTSTART:20261101T060000
END:STANDARD
BEGIN:DAYLIGHT
TZOFFSETFROM:-0500
TZOFFSETTO:-0400
TZNAME:EDT
DTSTART:20270314T070000
END:DAYLIGHT
BEGIN:STANDARD
TZOFFSETFROM:-0400
TZOFFSETTO:-0500
TZNAME:EST
DTSTART:20271107T060000
END:STANDARD
END:VTIMEZONE
BEGIN:VEVENT
DTSTART;TZID=America/New_York:20260425T090000
DTEND;TZID=America/New_York:20260425T090000
DTSTAMP:20260425T065702
CREATED:20260424T214400Z
LAST-MODIFIED:20260424T214541Z
UID:10000190-1777107600-1777107600@district8area15aa.org
SUMMARY:69th Florida State Convention 2027 - Planning Meeting
DESCRIPTION:“Palm Trees\, Principles & Promises” \nAugust 4 – 8\, 2027 \nFort Lauderdale Harbor Beach Marriott Resort & Spa \nPlanning starts now! Please join us… LOTS of opportunities to participate! \nCheck out the flyer for more information!! All future dates are on the flyer. If you are interested in attending virtually\, please contact the chair at the contact info below! \nClick here to view the flyer! \nFor more information\, contact the Convention Chair at Chair69fsc@gmail.com
URL:https://district8area15aa.org/event/69th-florida-state-convention-2027-planning-meeting-2/
LOCATION:Residences at Equality Park\, 2040 N Dixie Hwy\, Wilton Manors\, FL\, 33305\, United States
END:VEVENT
BEGIN:VEVENT
DTSTART;TZID=America/New_York:20260427T180000
DTEND;TZID=America/New_York:20260427T190000
DTSTAMP:20260425T065702
CREATED:20260218T043244Z
LAST-MODIFIED:20260218T043244Z
UID:10000117-1777312800-1777316400@district8area15aa.org
SUMMARY:Literature Committee Meeting
DESCRIPTION:Distribute the message\, one pamphlet at a time.\nWhen: Last Monday of every month\nTime: 6:00 PM\nWhere: Virtual Meeting Platform\nContact: Literature@district8area15aa.org \n** Contact the Literature Committee Chairperson for the virtual meeting link to attend our monthly Committee meetings.
URL:https://district8area15aa.org/event/literature-committee-meeting-10/
END:VEVENT
END:VCALENDAR